BEGIN:VCALENDAR
VERSION:2.0
PRODID:-//Village at Shirlington - ECPv6.15.20//NONSGML v1.0//EN
CALSCALE:GREGORIAN
METHOD:PUBLISH
X-WR-CALNAME:Village at Shirlington
X-ORIGINAL-URL:https://villageatshirlington.com
X-WR-CALDESC:Events for Village at Shirlington
REFRESH-INTERVAL;VALUE=DURATION:PT1H
X-Robots-Tag:noindex
X-PUBLISHED-TTL:PT1H
BEGIN:VTIMEZONE
TZID:America/New_York
BEGIN:DAYLIGHT
TZOFFSETFROM:-0500
TZOFFSETTO:-0400
TZNAME:EDT
DTSTART:20250309T070000
END:DAYLIGHT
BEGIN:STANDARD
TZOFFSETFROM:-0400
TZOFFSETTO:-0500
TZNAME:EST
DTSTART:20251102T060000
END:STANDARD
BEGIN:DAYLIGHT
TZOFFSETFROM:-0500
TZOFFSETTO:-0400
TZNAME:EDT
DTSTART:20260308T070000
END:DAYLIGHT
BEGIN:STANDARD
TZOFFSETFROM:-0400
TZOFFSETTO:-0500
TZNAME:EST
DTSTART:20261101T060000
END:STANDARD
BEGIN:DAYLIGHT
TZOFFSETFROM:-0500
TZOFFSETTO:-0400
TZNAME:EDT
DTSTART:20270314T070000
END:DAYLIGHT
BEGIN:STANDARD
TZOFFSETFROM:-0400
TZOFFSETTO:-0500
TZNAME:EST
DTSTART:20271107T060000
END:STANDARD
END:VTIMEZONE
BEGIN:VEVENT
DTSTART;TZID=America/New_York:20260430T180000
DTEND;TZID=America/New_York:20260430T200000
DTSTAMP:20260425T081516
CREATED:20260416T230948Z
LAST-MODIFIED:20260416T230948Z
UID:10000008-1777572000-1777579200@villageatshirlington.com
SUMMARY:Evening with WhistlePig \, Whiskey Dinner at Copperwood Tavern
DESCRIPTION:4-course farm-to-table dinner at Copperwood Tavern featuring WhistlePig 10\, 12\, 15 & 18 Year. Must be 21+. \n\n\n\n\nJoin us for an exclusive\, seated whiskey dinner at Copperwood Tavern featuring four of WhistlePig’s most celebrated rye expressions\, paired alongside a specially crafted 4-course farm-to-table dinner. \nThis is a rare opportunity to taste the full WhistlePig aged lineup side by side\, guided through each pour in an intimate setting. \nFeatured Pours: \n\nWhistlePig 10 Year — Small Batch Rye\nWhistlePig 12 Year — Old World Rye\nWhistlePig 15 Year — Estate Oak Rye Single Barrel\nWhistlePig 18 Year — Double Malt Straight Rye\n\nWhat’s Included: \n\nGuided tasting of all four expressions\nExclusive 4-course farm-to-table dinner\n\nGet Tickets
URL:https://villageatshirlington.com/event/evening-with-whistlepig-whiskey-dinner-at-copperwood-tavern/
LOCATION:VA
ATTACH;FMTTYPE=image/jpeg:https://villageatshirlington.com/wp-content/uploads/2026/04/YACHT-PARTY-1.jpg
END:VEVENT
END:VCALENDAR