BEGIN:VCALENDAR
VERSION:2.0
PRODID:-//Village at Shirlington - ECPv6.15.20//NONSGML v1.0//EN
CALSCALE:GREGORIAN
METHOD:PUBLISH
X-WR-CALNAME:Village at Shirlington
X-ORIGINAL-URL:https://villageatshirlington.com
X-WR-CALDESC:Events for Village at Shirlington
REFRESH-INTERVAL;VALUE=DURATION:PT1H
X-Robots-Tag:noindex
X-PUBLISHED-TTL:PT1H
BEGIN:VTIMEZONE
TZID:America/New_York
BEGIN:DAYLIGHT
TZOFFSETFROM:-0500
TZOFFSETTO:-0400
TZNAME:EDT
DTSTART:20240310T070000
END:DAYLIGHT
BEGIN:STANDARD
TZOFFSETFROM:-0400
TZOFFSETTO:-0500
TZNAME:EST
DTSTART:20241103T060000
END:STANDARD
BEGIN:DAYLIGHT
TZOFFSETFROM:-0500
TZOFFSETTO:-0400
TZNAME:EDT
DTSTART:20250309T070000
END:DAYLIGHT
BEGIN:STANDARD
TZOFFSETFROM:-0400
TZOFFSETTO:-0500
TZNAME:EST
DTSTART:20251102T060000
END:STANDARD
BEGIN:DAYLIGHT
TZOFFSETFROM:-0500
TZOFFSETTO:-0400
TZNAME:EDT
DTSTART:20260308T070000
END:DAYLIGHT
BEGIN:STANDARD
TZOFFSETFROM:-0400
TZOFFSETTO:-0500
TZNAME:EST
DTSTART:20261101T060000
END:STANDARD
BEGIN:DAYLIGHT
TZOFFSETFROM:-0500
TZOFFSETTO:-0400
TZNAME:EDT
DTSTART:20270314T070000
END:DAYLIGHT
BEGIN:STANDARD
TZOFFSETFROM:-0400
TZOFFSETTO:-0500
TZNAME:EST
DTSTART:20271107T060000
END:STANDARD
END:VTIMEZONE
BEGIN:VEVENT
DTSTART;TZID=America/New_York:20260419T200000
DTEND;TZID=America/New_York:20260419T230000
DTSTAMP:20260425T130144
CREATED:20260417T133157Z
LAST-MODIFIED:20260417T133157Z
UID:10000010-1776628800-1776639600@villageatshirlington.com
SUMMARY:Live Music at Guapo's
DESCRIPTION:Add some excitement to your Saturday night with live music at Guapo’s! \nReservations
URL:https://villageatshirlington.com/event/live-music-at-guapos/
LOCATION:Village at Shirlington\, 2700 S Quincy St\, Arlington\, VA\, 22206\, United States
ATTACH;FMTTYPE=image/png:https://villageatshirlington.com/wp-content/uploads/2026/04/YACHT-PARTY.png
END:VEVENT
BEGIN:VEVENT
DTSTART;TZID=America/New_York:20260417T080000
DTEND;TZID=America/New_York:20260417T170000
DTSTAMP:20260425T130144
CREATED:20260417T134607Z
LAST-MODIFIED:20260417T134615Z
UID:10000011-1776412800-1776445200@villageatshirlington.com
SUMMARY:Samuel Beckett’s Irish Pub - Celtic Festival
DESCRIPTION:Samuel Beckett’s Irish Pub at the Village at Shirlington is hosting its annual Celtic Festival.\n\n\n\n\n\n\n\n\nCome enjoy traditional Irish music and dance\, food and drinks\, festivities\, and a popup makers market. Campbell Avenue will be closed down for you to Sip & Stroll your way around Celtic Festival and the neighborhood
URL:https://villageatshirlington.com/event/samuel-becketts-irish-pub-celtic-festival/
LOCATION:Village at Shirlington\, 2700 S Quincy St\, Arlington\, VA\, 22206\, United States
ATTACH;FMTTYPE=image/jpeg:https://villageatshirlington.com/wp-content/uploads/2026/04/IMG_5354-1536x864-1.jpg
END:VEVENT
BEGIN:VEVENT
DTSTART;TZID=America/New_York:20251206T160000
DTEND;TZID=America/New_York:20251206T190000
DTSTAMP:20260425T130144
CREATED:20250917T140214Z
LAST-MODIFIED:20251107T162525Z
UID:10000005-1765036800-1765047600@villageatshirlington.com
SUMMARY:A Very Village Holiday
DESCRIPTION:Accepting sponsors & vendors! Please email #ob#wmhyvp#at#srqrenyernygl.pbz#ob# for more information. \nHoliday fun at The Village! Market\, music\, food\, drinks & Santa. Don’t miss this festive celebration! \nJoin us for a festive Holiday Event at The Village at Shirlington! 🎅✨ Enjoy the charm of the season with our Holiday Market featuring unique gifts\, local artisans\, and seasonal treats. Stroll through the decorated streets as you listen to live holiday music\, savor delicious food and drinks from local favorites\, and snap a photo with Santa Claus himself! Perfect for families\, friends\, and holiday lovers of all ages. Come celebrate the magic of the season with us — it’s a can’t-miss community event filled with joy\, cheer\, and holiday spirit! \n  \nA Huge Thank You to our 2025 Sponsors: \n  \n\n  \n\n  \n  \n\n 
URL:https://villageatshirlington.com/event/a-very-village-holiday/
LOCATION:Village at Shirlington\, 2700 S Quincy St\, Arlington\, VA\, 22206\, United States
ATTACH;FMTTYPE=image/jpeg:https://villageatshirlington.com/wp-content/uploads/2025/09/Untitled-design-5.jpg
ORGANIZER;CN="Village at Shirlington":MAILTO:jzulic@federalrealty.com
END:VEVENT
BEGIN:VEVENT
DTSTART;TZID=America/New_York:20251025T140000
DTEND;TZID=America/New_York:20251025T160000
DTSTAMP:20260425T130144
CREATED:20250916T182759Z
LAST-MODIFIED:20260417T123520Z
UID:10000004-1761400800-1761408000@villageatshirlington.com
SUMMARY:Halloween Trick-Or-Treat Trail
DESCRIPTION:Save the date for our annual Halloween event in Shirlington! This year we are featuring a trick-or-treat-trail. Lots of candy\, costumes\, fun\, and prizes. Free tickets here \n 
URL:https://villageatshirlington.com/event/halloween-trick-or-treat-trail/
LOCATION:VA
ATTACH;FMTTYPE=image/jpeg:https://villageatshirlington.com/wp-content/uploads/2025/09/Untitled-design-26.jpg
END:VEVENT
BEGIN:VEVENT
DTSTART;TZID=America/New_York:20251004T170000
DTEND;TZID=America/New_York:20251004T190000
DTSTAMP:20260425T130144
CREATED:20250916T180125Z
LAST-MODIFIED:20250916T181414Z
UID:10000003-1759597200-1759604400@villageatshirlington.com
SUMMARY:Oktoberfest - Astro Beer Hall
DESCRIPTION:
URL:https://villageatshirlington.com/event/oktoberfest-astro-beer-hall-3/
LOCATION:VA
ATTACH;FMTTYPE=image/jpeg:https://villageatshirlington.com/wp-content/uploads/2025/09/Untitled-design-25.jpg
ORGANIZER;CN="Village at Shirlington":MAILTO:jzulic@federalrealty.com
END:VEVENT
BEGIN:VEVENT
DTSTART;TZID=America/New_York:20250927T170000
DTEND;TZID=America/New_York:20250927T170000
DTSTAMP:20260425T130144
CREATED:20250916T175059Z
LAST-MODIFIED:20250916T181511Z
UID:10000001-1758992400-1758992400@villageatshirlington.com
SUMMARY:Oktoberfest - Astro Beer Hall
DESCRIPTION:
URL:https://villageatshirlington.com/event/oktoberfest-astro-beer-hall/
LOCATION:VA
ATTACH;FMTTYPE=image/jpeg:https://villageatshirlington.com/wp-content/uploads/2025/09/Untitled-design-25.jpg
ORGANIZER;CN="Village at Shirlington":MAILTO:jzulic@federalrealty.com
END:VEVENT
BEGIN:VEVENT
DTSTART;TZID=America/New_York:20250920T170000
DTEND;TZID=America/New_York:20250920T190000
DTSTAMP:20260425T130144
CREATED:20250916T175933Z
LAST-MODIFIED:20250916T181454Z
UID:10000002-1758387600-1758394800@villageatshirlington.com
SUMMARY:Oktoberfest - Astro Beer Hall
DESCRIPTION:
URL:https://villageatshirlington.com/event/oktoberfest-astro-beer-hall-2/
LOCATION:VA
ATTACH;FMTTYPE=image/jpeg:https://villageatshirlington.com/wp-content/uploads/2025/09/Untitled-design-25.jpg
END:VEVENT
END:VCALENDAR