BEGIN:VCALENDAR
VERSION:2.0
PRODID:-//Village at Shirlington - ECPv6.15.20//NONSGML v1.0//EN
CALSCALE:GREGORIAN
METHOD:PUBLISH
X-ORIGINAL-URL:https://villageatshirlington.com
X-WR-CALDESC:Events for Village at Shirlington
REFRESH-INTERVAL;VALUE=DURATION:PT1H
X-Robots-Tag:noindex
X-PUBLISHED-TTL:PT1H
BEGIN:VTIMEZONE
TZID:America/New_York
BEGIN:DAYLIGHT
TZOFFSETFROM:-0500
TZOFFSETTO:-0400
TZNAME:EDT
DTSTART:20250309T070000
END:DAYLIGHT
BEGIN:STANDARD
TZOFFSETFROM:-0400
TZOFFSETTO:-0500
TZNAME:EST
DTSTART:20251102T060000
END:STANDARD
BEGIN:DAYLIGHT
TZOFFSETFROM:-0500
TZOFFSETTO:-0400
TZNAME:EDT
DTSTART:20260308T070000
END:DAYLIGHT
BEGIN:STANDARD
TZOFFSETFROM:-0400
TZOFFSETTO:-0500
TZNAME:EST
DTSTART:20261101T060000
END:STANDARD
BEGIN:DAYLIGHT
TZOFFSETFROM:-0500
TZOFFSETTO:-0400
TZNAME:EDT
DTSTART:20270314T070000
END:DAYLIGHT
BEGIN:STANDARD
TZOFFSETFROM:-0400
TZOFFSETTO:-0500
TZNAME:EST
DTSTART:20271107T060000
END:STANDARD
END:VTIMEZONE
BEGIN:VEVENT
DTSTART;TZID=America/New_York:20260505T140000
DTEND;TZID=America/New_York:20260505T220000
DTSTAMP:20260425T112346
CREATED:20260325T125747Z
LAST-MODIFIED:20260325T125845Z
UID:10000007-1777989600-1778018400@villageatshirlington.com
SUMMARY:Guapo's Cinco De Mayo
DESCRIPTION:One of Shirlington’s favorite annual traditions is back—Guapo’s Cinco de Mayo Festival returns for 2026. Expect a lively street festival filled with great food\, drinks\, music\, and dancing all day long.
URL:https://villageatshirlington.com/event/guapos-cinco-de-mayo/
LOCATION:VA
ATTACH;FMTTYPE=image/jpeg:https://villageatshirlington.com/wp-content/uploads/2026/03/SHIRLINGTON-5-DE-MAYO-24-x-30-in-1.pdf-10-x-6-in.jpg
END:VEVENT
END:VCALENDAR