BEGIN:VCALENDAR
VERSION:2.0
PRODID:-//Village at Shirlington - ECPv6.15.20//NONSGML v1.0//EN
CALSCALE:GREGORIAN
METHOD:PUBLISH
X-ORIGINAL-URL:https://villageatshirlington.com
X-WR-CALDESC:Events for Village at Shirlington
REFRESH-INTERVAL;VALUE=DURATION:PT1H
X-Robots-Tag:noindex
X-PUBLISHED-TTL:PT1H
BEGIN:VTIMEZONE
TZID:America/New_York
BEGIN:DAYLIGHT
TZOFFSETFROM:-0500
TZOFFSETTO:-0400
TZNAME:EDT
DTSTART:20240310T070000
END:DAYLIGHT
BEGIN:STANDARD
TZOFFSETFROM:-0400
TZOFFSETTO:-0500
TZNAME:EST
DTSTART:20241103T060000
END:STANDARD
BEGIN:DAYLIGHT
TZOFFSETFROM:-0500
TZOFFSETTO:-0400
TZNAME:EDT
DTSTART:20250309T070000
END:DAYLIGHT
BEGIN:STANDARD
TZOFFSETFROM:-0400
TZOFFSETTO:-0500
TZNAME:EST
DTSTART:20251102T060000
END:STANDARD
BEGIN:DAYLIGHT
TZOFFSETFROM:-0500
TZOFFSETTO:-0400
TZNAME:EDT
DTSTART:20260308T070000
END:DAYLIGHT
BEGIN:STANDARD
TZOFFSETFROM:-0400
TZOFFSETTO:-0500
TZNAME:EST
DTSTART:20261101T060000
END:STANDARD
END:VTIMEZONE
BEGIN:VEVENT
DTSTART;TZID=America/New_York:20251025T140000
DTEND;TZID=America/New_York:20251025T160000
DTSTAMP:20260425T190611
CREATED:20250916T182759Z
LAST-MODIFIED:20260417T123520Z
UID:10000004-1761400800-1761408000@villageatshirlington.com
SUMMARY:Halloween Trick-Or-Treat Trail
DESCRIPTION:Save the date for our annual Halloween event in Shirlington! This year we are featuring a trick-or-treat-trail. Lots of candy\, costumes\, fun\, and prizes. Free tickets here \n 
URL:https://villageatshirlington.com/event/halloween-trick-or-treat-trail/
LOCATION:VA
ATTACH;FMTTYPE=image/jpeg:https://villageatshirlington.com/wp-content/uploads/2025/09/Untitled-design-26.jpg
END:VEVENT
END:VCALENDAR